BEGIN:VCALENDAR
VERSION:2.0
PRODID:-//BÜNDNIS 90/DIE GRÜNEN MV - ECPv6.15.17.1//NONSGML v1.0//EN
CALSCALE:GREGORIAN
METHOD:PUBLISH
X-WR-CALNAME:BÜNDNIS 90/DIE GRÜNEN MV
X-ORIGINAL-URL:https://gruene-mv.de
X-WR-CALDESC:Veranstaltungen für BÜNDNIS 90/DIE GRÜNEN MV
REFRESH-INTERVAL;VALUE=DURATION:PT1H
X-Robots-Tag:noindex
X-PUBLISHED-TTL:PT1H
BEGIN:VTIMEZONE
TZID:Europe/Berlin
BEGIN:DAYLIGHT
TZOFFSETFROM:+0100
TZOFFSETTO:+0200
TZNAME:CEST
DTSTART:20250330T010000
END:DAYLIGHT
BEGIN:STANDARD
TZOFFSETFROM:+0200
TZOFFSETTO:+0100
TZNAME:CET
DTSTART:20251026T010000
END:STANDARD
BEGIN:DAYLIGHT
TZOFFSETFROM:+0100
TZOFFSETTO:+0200
TZNAME:CEST
DTSTART:20260329T010000
END:DAYLIGHT
BEGIN:STANDARD
TZOFFSETFROM:+0200
TZOFFSETTO:+0100
TZNAME:CET
DTSTART:20261025T010000
END:STANDARD
BEGIN:DAYLIGHT
TZOFFSETFROM:+0100
TZOFFSETTO:+0200
TZNAME:CEST
DTSTART:20270328T010000
END:DAYLIGHT
BEGIN:STANDARD
TZOFFSETFROM:+0200
TZOFFSETTO:+0100
TZNAME:CET
DTSTART:20271031T010000
END:STANDARD
END:VTIMEZONE
BEGIN:VEVENT
DTSTART;TZID=Europe/Berlin:20260414T170000
DTEND;TZID=Europe/Berlin:20260414T190000
DTSTAMP:20260423T142018
CREATED:20260408T085713Z
LAST-MODIFIED:20260408T085713Z
UID:32389-1776186000-1776193200@gruene-mv.de
SUMMARY:Sitzung LAG Queer
DESCRIPTION:ich freue mich euch mal wieder auf eine LAG Queer einladen zu können. \nWir treffen uns am 14.04. um 17:00 Uhr digital hier:\n\nhttps://meet.gruene.de/lagqueermv\n\nFolgende TO schlage ich vor:\n\nTOP 1 Begrüßung und Formalia\nTOP 2 Planung 2026\nTOP 3 Wahlprogramm & LDK\nTOP 4 Sonstiges
URL:https://gruene-mv.de/event/sitzung-lag-queer-5/
LOCATION:Online
CATEGORIES:LAG,LAG Queer,LV-Termine
ORGANIZER;CN="LAG Queer":MAILTO:lag.queer@gruene-mv.de
END:VEVENT
END:VCALENDAR