BEGIN:VCALENDAR
VERSION:2.0
PRODID:-//BÜNDNIS 90/DIE GRÜNEN MV - ECPv6.15.17.1//NONSGML v1.0//EN
CALSCALE:GREGORIAN
METHOD:PUBLISH
X-WR-CALNAME:BÜNDNIS 90/DIE GRÜNEN MV
X-ORIGINAL-URL:https://gruene-mv.de
X-WR-CALDESC:Veranstaltungen für BÜNDNIS 90/DIE GRÜNEN MV
REFRESH-INTERVAL;VALUE=DURATION:PT1H
X-Robots-Tag:noindex
X-PUBLISHED-TTL:PT1H
BEGIN:VTIMEZONE
TZID:Europe/Berlin
BEGIN:DAYLIGHT
TZOFFSETFROM:+0100
TZOFFSETTO:+0200
TZNAME:CEST
DTSTART:20250330T010000
END:DAYLIGHT
BEGIN:STANDARD
TZOFFSETFROM:+0200
TZOFFSETTO:+0100
TZNAME:CET
DTSTART:20251026T010000
END:STANDARD
BEGIN:DAYLIGHT
TZOFFSETFROM:+0100
TZOFFSETTO:+0200
TZNAME:CEST
DTSTART:20260329T010000
END:DAYLIGHT
BEGIN:STANDARD
TZOFFSETFROM:+0200
TZOFFSETTO:+0100
TZNAME:CET
DTSTART:20261025T010000
END:STANDARD
BEGIN:DAYLIGHT
TZOFFSETFROM:+0100
TZOFFSETTO:+0200
TZNAME:CEST
DTSTART:20270328T010000
END:DAYLIGHT
BEGIN:STANDARD
TZOFFSETFROM:+0200
TZOFFSETTO:+0100
TZNAME:CET
DTSTART:20271031T010000
END:STANDARD
END:VTIMEZONE
BEGIN:VEVENT
DTSTART;TZID=Europe/Berlin:20261015T190000
DTEND;TZID=Europe/Berlin:20261015T210000
DTSTAMP:20260423T105554
CREATED:20251113T070355Z
LAST-MODIFIED:20251113T070355Z
UID:30764-1792090800-1792098000@gruene-mv.de
SUMMARY:Sitzung: LAG Planen\, Leben\, Baukultur [Online-Meeting]
DESCRIPTION:Die Landesarbeitsgemeinschaft Planen\, Leben\, Baukultur lädt euch herzlich zur nächsten Sitzung ein. \nGebt uns gerne per E-Mail eine Rückmeldung\, wenn ihr teilnehmen möchtet.\nWir schicken euch dann einen Link zur Teilnahme zu:\nKontakt: erem.bischoff@gruene-mv.de
URL:https://gruene-mv.de/event/sitzung-lag-planen-leben-baukultur-online-meeting-14/
LOCATION:Online-Meeting
CATEGORIES:LAG,LAG Planen, Leben, Baukultur,LV-Termine
END:VEVENT
END:VCALENDAR