BEGIN:VCALENDAR
VERSION:2.0
PRODID:-//BÜNDNIS 90/DIE GRÜNEN MV - ECPv6.15.17.1//NONSGML v1.0//EN
CALSCALE:GREGORIAN
METHOD:PUBLISH
X-WR-CALNAME:BÜNDNIS 90/DIE GRÜNEN MV
X-ORIGINAL-URL:https://gruene-mv.de
X-WR-CALDESC:Veranstaltungen für BÜNDNIS 90/DIE GRÜNEN MV
REFRESH-INTERVAL;VALUE=DURATION:PT1H
X-Robots-Tag:noindex
X-PUBLISHED-TTL:PT1H
BEGIN:VTIMEZONE
TZID:Europe/Berlin
BEGIN:DAYLIGHT
TZOFFSETFROM:+0100
TZOFFSETTO:+0200
TZNAME:CEST
DTSTART:20250330T010000
END:DAYLIGHT
BEGIN:STANDARD
TZOFFSETFROM:+0200
TZOFFSETTO:+0100
TZNAME:CET
DTSTART:20251026T010000
END:STANDARD
BEGIN:DAYLIGHT
TZOFFSETFROM:+0100
TZOFFSETTO:+0200
TZNAME:CEST
DTSTART:20260329T010000
END:DAYLIGHT
BEGIN:STANDARD
TZOFFSETFROM:+0200
TZOFFSETTO:+0100
TZNAME:CET
DTSTART:20261025T010000
END:STANDARD
BEGIN:DAYLIGHT
TZOFFSETFROM:+0100
TZOFFSETTO:+0200
TZNAME:CEST
DTSTART:20270328T010000
END:DAYLIGHT
BEGIN:STANDARD
TZOFFSETFROM:+0200
TZOFFSETTO:+0100
TZNAME:CET
DTSTART:20271031T010000
END:STANDARD
END:VTIMEZONE
BEGIN:VEVENT
DTSTART;TZID=Europe/Berlin:20260506T193000
DTEND;TZID=Europe/Berlin:20260506T213000
DTSTAMP:20260422T114220
CREATED:20251010T083725Z
LAST-MODIFIED:20260408T094557Z
UID:30382-1778095800-1778103000@gruene-mv.de
SUMMARY:Sitzung: LAG Digitales & Medien [Online-Meeting]
DESCRIPTION:Änderungsanträge für die Programm LDK\nDie Landesarbeitsgemeinschaft Digitales & Medien lädt euch herzlich zur nächsten digitalen Sitzung ein.\nLink zur Teilnahme:\nhttps://meet.gruene.de/lag-digitales-medien-mv \nWenn Du Lust und Interesse hast\, uns kennenzulernen und mitzumachen\, dann schicke uns gerne eine E-Mail an folgende Adresse:\nlag.digitales-medien@gruene-mv.de
URL:https://gruene-mv.de/event/sitzung-lag-digitales-medien-online-meeting-7/
LOCATION:Online
CATEGORIES:LAG,LAG Digitales & Medien,LV-Termine
ORGANIZER;CN="LAG Digitales und Medien":MAILTO:lag.digitales-medien@gruene-mv.de
END:VEVENT
END:VCALENDAR