BEGIN:VCALENDAR
VERSION:2.0
PRODID:-//BÜNDNIS 90/DIE GRÜNEN MV - ECPv6.15.17.1//NONSGML v1.0//EN
CALSCALE:GREGORIAN
METHOD:PUBLISH
X-WR-CALNAME:BÜNDNIS 90/DIE GRÜNEN MV
X-ORIGINAL-URL:https://gruene-mv.de
X-WR-CALDESC:Veranstaltungen für BÜNDNIS 90/DIE GRÜNEN MV
REFRESH-INTERVAL;VALUE=DURATION:PT1H
X-Robots-Tag:noindex
X-PUBLISHED-TTL:PT1H
BEGIN:VTIMEZONE
TZID:Europe/Berlin
BEGIN:DAYLIGHT
TZOFFSETFROM:+0100
TZOFFSETTO:+0200
TZNAME:CEST
DTSTART:20250330T010000
END:DAYLIGHT
BEGIN:STANDARD
TZOFFSETFROM:+0200
TZOFFSETTO:+0100
TZNAME:CET
DTSTART:20251026T010000
END:STANDARD
BEGIN:DAYLIGHT
TZOFFSETFROM:+0100
TZOFFSETTO:+0200
TZNAME:CEST
DTSTART:20260329T010000
END:DAYLIGHT
BEGIN:STANDARD
TZOFFSETFROM:+0200
TZOFFSETTO:+0100
TZNAME:CET
DTSTART:20261025T010000
END:STANDARD
BEGIN:DAYLIGHT
TZOFFSETFROM:+0100
TZOFFSETTO:+0200
TZNAME:CEST
DTSTART:20270328T010000
END:DAYLIGHT
BEGIN:STANDARD
TZOFFSETFROM:+0200
TZOFFSETTO:+0100
TZNAME:CET
DTSTART:20271031T010000
END:STANDARD
END:VTIMEZONE
BEGIN:VEVENT
DTSTART;TZID=Europe/Berlin:20260408T193000
DTEND;TZID=Europe/Berlin:20260408T210000
DTSTAMP:20260423T165617
CREATED:20240703T090805Z
LAST-MODIFIED:20260302T092115Z
UID:23598-1775676600-1775682000@gruene-mv.de
SUMMARY:Sitzung: LAG Bildung [Online-Meeting]
DESCRIPTION:Die Landesarbeitsgemeinschaft Bildung lädt euch herzlich zur nächsten Sitzung ein.\nFür weitere Informationen\, Anmeldungen oder einen Link für die Teilnahme\, meldet euch bitte per Mail an:\nlag.bildung@gruene-mv.de
URL:https://gruene-mv.de/event/sitzung-lag-bildung-online-meeting-5/
LOCATION:Online-Meeting
CATEGORIES:LAG Bildung
ORGANIZER;CN="LAG Bildung":MAILTO:lag.bildung@gruene-mv.de
END:VEVENT
END:VCALENDAR